BEGIN:VCALENDAR
VERSION:2.0
PRODID:-//webinar.firespring.org//NONSGML kigkonsult.se iCalcreator 2.30.10
 //
CALSCALE:GREGORIAN
METHOD:PUBLISH
UID:06f8fb0d-5a0c-40ea-996f-ab4dd1fa1567
X-WR-CALDESC:Join us for our monthly staff meeting.
X-WR-RELCALID:bda4780bbfa1edbba7652c9af9640f1a
X-WR-TIMEZONE:America/Chicago
BEGIN:VTIMEZONE
TZID:America/Chicago
BEGIN:STANDARD
TZNAME:CST
DTSTART:20301103T020000
TZOFFSETFROM:-0500
TZOFFSETTO:-0600
RDATE:20311102T020000
END:STANDARD
BEGIN:DAYLIGHT
TZNAME:CDT
DTSTART:20310309T020000
TZOFFSETFROM:-0600
TZOFFSETTO:-0500
RDATE:20320314T020000
END:DAYLIGHT
END:VTIMEZONE
BEGIN:VEVENT
UID:085b45a2-8b9d-4776-80d5-d4cfd3c9b5b9
DTSTAMP:20260422T081632Z
DESCRIPTION:Join us for our monthly staff meeting.
DTSTART;TZID=America/Chicago:20310501T140000
DTEND;TZID=America/Chicago:20310501T153000
LOCATION:1201 Infinity Court Lincoln NE
SUMMARY:Staff Meeting
END:VEVENT
END:VCALENDAR
