BEGIN:VCALENDAR
VERSION:2.0
PRODID:-//webinar.firespring.org//NONSGML kigkonsult.se iCalcreator 2.30.10
 //
CALSCALE:GREGORIAN
METHOD:PUBLISH
UID:541d1988-bc70-4b10-9432-6bae0f2a3abf
X-WR-CALDESC:One day of giving to benefit our great organization.
X-WR-RELCALID:786472b2b98d2368d52eee901a4f1e4e
X-WR-TIMEZONE:America/Chicago
BEGIN:VTIMEZONE
TZID:America/Chicago
BEGIN:STANDARD
TZNAME:CST
DTSTART:20291104T020000
TZOFFSETFROM:-0500
TZOFFSETTO:-0600
RDATE:20301103T020000
RDATE:20311102T020000
END:STANDARD
BEGIN:DAYLIGHT
TZNAME:CDT
DTSTART:20300310T020000
TZOFFSETFROM:-0600
TZOFFSETTO:-0500
RDATE:20310309T020000
END:DAYLIGHT
END:VTIMEZONE
BEGIN:VEVENT
UID:50b33fff-27fe-45f9-b278-673c690a22e9
DTSTAMP:20260421T185617Z
DESCRIPTION:One day of giving to benefit our great organization.
DTSTART;TZID=America/Chicago:20300906T000000
DTEND;TZID=America/Chicago:20300906T235900
LOCATION:1201 Infinity Court Lincoln Ne 68512
SUMMARY:Day of Giving
END:VEVENT
END:VCALENDAR
