BEGIN:VCALENDAR
VERSION:2.0
PRODID:-//webinar.firespring.org//NONSGML kigkonsult.se iCalcreator 2.30.10
 //
CALSCALE:GREGORIAN
METHOD:PUBLISH
UID:7fee6752-61ec-4dcd-9e54-c028bde76f23
X-WR-CALDESC:Join us as we embark on a journey of exploration\, collaborati
 on\, and growth. Through engaging keynote speeches\, interactive workshops
 \, thought-provoking panel discussions\, and networking opportunities\, we
  will delve into key topics and initiatives that drive meaningful change.
 \n
X-WR-RELCALID:7e94ca5279b6066a3f0373b9da14c3be
X-WR-TIMEZONE:America/Chicago
BEGIN:VTIMEZONE
TZID:America/Chicago
BEGIN:STANDARD
TZNAME:CST
DTSTART:20221106T020000
TZOFFSETFROM:-0500
TZOFFSETTO:-0600
RDATE:20231105T020000
RDATE:20241103T020000
END:STANDARD
BEGIN:DAYLIGHT
TZNAME:CDT
DTSTART:20230312T020000
TZOFFSETFROM:-0600
TZOFFSETTO:-0500
RDATE:20240310T020000
END:DAYLIGHT
END:VTIMEZONE
BEGIN:VEVENT
UID:1fe7a891-cf12-4c27-8ff6-5a336b404429
DTSTAMP:20260422T062617Z
DESCRIPTION:Join us as we embark on a journey of exploration\, collaboratio
 n\, and growth. Through engaging keynote speeches\, interactive workshops\
 , thought-provoking panel discussions\, and networking opportunities\, we 
 will delve into key topics and initiatives that drive meaningful change.\n
DTSTART;TZID=America/Chicago:20230819T180000
DTEND;TZID=America/Chicago:20230819T210000
LOCATION:1201 Infinity Court\, Lincoln\, NE 68512 US
SUMMARY:Empowering Futures: Building Bridges for Change
END:VEVENT
END:VCALENDAR
