BEGIN:VCALENDAR
VERSION:2.0
PRODID:-//webinar.firespring.org//NONSGML kigkonsult.se iCalcreator 2.30.10
 //
CALSCALE:GREGORIAN
METHOD:PUBLISH
UID:43b84618-60b7-41c7-a8f2-99fe42f9a6a5
X-WR-CALDESC:One day of giving to benefit our great organization.
X-WR-RELCALID:0f91427c6d37a3c429881a5434d5f31d
X-WR-TIMEZONE:America/Chicago
BEGIN:VTIMEZONE
TZID:America/Chicago
BEGIN:STANDARD
TZNAME:CST
DTSTART:20211107T020000
TZOFFSETFROM:-0500
TZOFFSETTO:-0600
RDATE:20221106T020000
RDATE:20231105T020000
END:STANDARD
BEGIN:DAYLIGHT
TZNAME:CDT
DTSTART:20220313T020000
TZOFFSETFROM:-0600
TZOFFSETTO:-0500
RDATE:20230312T020000
END:DAYLIGHT
END:VTIMEZONE
BEGIN:VEVENT
UID:4e888cf8-a26d-435d-abc3-78c83d58c5d6
DTSTAMP:20260422T234546Z
DESCRIPTION:One day of giving to benefit our great organization.
DTSTART;TZID=America/Chicago:20220906T000000
DTEND;TZID=America/Chicago:20220906T235900
LOCATION:1201 Infinity Court Lincoln Ne 68512
SUMMARY:Day of Giving
END:VEVENT
END:VCALENDAR
