BEGIN:VCALENDAR
VERSION:2.0
PRODID:-//webinar.firespring.org//NONSGML kigkonsult.se iCalcreator 2.30.10
 //
CALSCALE:GREGORIAN
METHOD:PUBLISH
UID:e3812df3-0d77-4473-9130-a85e6c344183
X-WR-CALDESC:
X-WR-RELCALID:e66d70cbc908ad2e9bb340045205da69
X-WR-TIMEZONE:America/Chicago
BEGIN:VTIMEZONE
TZID:America/Chicago
BEGIN:STANDARD
TZNAME:CST
DTSTART:20311102T020000
TZOFFSETFROM:-0500
TZOFFSETTO:-0600
RDATE:20321107T020000
END:STANDARD
BEGIN:DAYLIGHT
TZNAME:CDT
DTSTART:20310309T020000
TZOFFSETFROM:-0600
TZOFFSETTO:-0500
RDATE:20320314T020000
RDATE:20330313T020000
END:DAYLIGHT
END:VTIMEZONE
BEGIN:VEVENT
UID:394b47f6-92e7-46ef-b262-831633a0da72
DTSTAMP:20260424T145313Z
DESCRIPTION:
DTSTART;TZID=America/Chicago:20311125T170000
DTEND;TZID=America/Chicago:20311125T200000
LOCATION:
SUMMARY:Volunteer Training
END:VEVENT
END:VCALENDAR
