BEGIN:VCALENDAR
VERSION:2.0
PRODID:-//webinar.firespring.org//NONSGML kigkonsult.se iCalcreator 2.30.10
 //
CALSCALE:GREGORIAN
METHOD:PUBLISH
UID:c74db363-b578-4300-973b-e09037464617
X-WR-CALDESC:
X-WR-RELCALID:209e0d3967c0f86ef5e5273a08bbc32f
X-WR-TIMEZONE:America/Chicago
BEGIN:VTIMEZONE
TZID:America/Chicago
BEGIN:STANDARD
TZNAME:CST
DTSTART:20311102T020000
TZOFFSETFROM:-0500
TZOFFSETTO:-0600
RDATE:20321107T020000
END:STANDARD
BEGIN:DAYLIGHT
TZNAME:CDT
DTSTART:20310309T020000
TZOFFSETFROM:-0600
TZOFFSETTO:-0500
RDATE:20320314T020000
RDATE:20330313T020000
END:DAYLIGHT
END:VTIMEZONE
BEGIN:VEVENT
UID:0d895d46-59b6-421d-bf84-9df0fd0b4356
DTSTAMP:20260424T144646Z
DESCRIPTION:
DTSTART;TZID=America/Chicago:20311104T100000
DTEND;TZID=America/Chicago:20311104T103000
LOCATION:
SUMMARY:Donation Forms and Fundraisers
END:VEVENT
END:VCALENDAR
