BEGIN:VCALENDAR
VERSION:2.0
PRODID:-//webinar.firespring.org//NONSGML kigkonsult.se iCalcreator 2.30.10
 //
CALSCALE:GREGORIAN
METHOD:PUBLISH
UID:91ae18df-e292-4b17-aa9b-39ac7601d38e
X-WR-CALDESC:
X-WR-RELCALID:b51c52c6ded226cace63522244f0e87d
X-WR-TIMEZONE:America/Chicago
BEGIN:VTIMEZONE
TZID:America/Chicago
BEGIN:STANDARD
TZNAME:CST
DTSTART:20301103T020000
TZOFFSETFROM:-0500
TZOFFSETTO:-0600
RDATE:20311102T020000
RDATE:20321107T020000
END:STANDARD
BEGIN:DAYLIGHT
TZNAME:CDT
DTSTART:20310309T020000
TZOFFSETFROM:-0600
TZOFFSETTO:-0500
RDATE:20320314T020000
RDATE:20330313T020000
END:DAYLIGHT
END:VTIMEZONE
BEGIN:VEVENT
UID:9cdcb043-44ec-4336-b9b1-96e7d2bd59a3
DTSTAMP:20260424T132458Z
DESCRIPTION:
DTSTART;TZID=America/Chicago:20311028T170000
DTEND;TZID=America/Chicago:20311028T200000
LOCATION:
SUMMARY:Volunteer Training
END:VEVENT
END:VCALENDAR
