BEGIN:VCALENDAR
VERSION:2.0
PRODID:-//webinar.firespring.org//NONSGML kigkonsult.se iCalcreator 2.30.10
 //
CALSCALE:GREGORIAN
METHOD:PUBLISH
UID:a5362d73-c2a6-4f15-90be-b7f8cfcd8024
X-WR-CALDESC:
X-WR-RELCALID:5812ef05d2f4788a840dc11dde883094
X-WR-TIMEZONE:America/Chicago
BEGIN:VTIMEZONE
TZID:America/Chicago
BEGIN:STANDARD
TZNAME:CST
DTSTART:20301103T020000
TZOFFSETFROM:-0500
TZOFFSETTO:-0600
RDATE:20311102T020000
RDATE:20321107T020000
END:STANDARD
BEGIN:DAYLIGHT
TZNAME:CDT
DTSTART:20310309T020000
TZOFFSETFROM:-0600
TZOFFSETTO:-0500
RDATE:20320314T020000
END:DAYLIGHT
END:VTIMEZONE
BEGIN:VEVENT
UID:82e329ed-38d8-4bf0-858a-d21bb1320f81
DTSTAMP:20260424T103312Z
DESCRIPTION:
DTSTART;TZID=America/Chicago:20310826T170000
DTEND;TZID=America/Chicago:20310826T200000
LOCATION:
SUMMARY:Volunteer Training
END:VEVENT
END:VCALENDAR
