BEGIN:VCALENDAR
VERSION:2.0
PRODID:-//webinar.firespring.org//NONSGML kigkonsult.se iCalcreator 2.30.10
 //
CALSCALE:GREGORIAN
METHOD:PUBLISH
UID:d011c5ec-dac1-4836-8962-048c803fd9a6
X-WR-CALDESC:You have the ability to update your website 24/7 and we’re her
 e to teach you how. Quickly learn how to customize and manage your nonprof
 it website by using the Springboard. From updating content\, images\, form
 s and collections to changing page and section names or news articles\, th
 is session will teach you how to operate your site.
X-WR-RELCALID:0f1aa0d01d39da5e66cc1d48959adf72
X-WR-TIMEZONE:America/Chicago
BEGIN:VTIMEZONE
TZID:America/Chicago
BEGIN:STANDARD
TZNAME:CST
DTSTART:20301103T020000
TZOFFSETFROM:-0500
TZOFFSETTO:-0600
RDATE:20311102T020000
END:STANDARD
BEGIN:DAYLIGHT
TZNAME:CDT
DTSTART:20310309T020000
TZOFFSETFROM:-0600
TZOFFSETTO:-0500
RDATE:20320314T020000
END:DAYLIGHT
END:VTIMEZONE
BEGIN:VEVENT
UID:d5e48ea8-87b2-44b6-965f-7308b42d1e1c
DTSTAMP:20260424T041502Z
DESCRIPTION:You have the ability to update your website 24/7 and we’re here
  to teach you how. Quickly learn how to customize and manage your nonprofi
 t website by using the Springboard. From updating content\, images\, forms
  and collections to changing page and section names or news articles\, thi
 s session will teach you how to operate your site.
DTSTART;TZID=America/Chicago:20310416T140000
DTEND;TZID=America/Chicago:20310416T150000
LOCATION:
SUMMARY:Springboard 101
END:VEVENT
END:VCALENDAR
