BEGIN:VCALENDAR
VERSION:2.0
PRODID:-//webinar.firespring.org//NONSGML kigkonsult.se iCalcreator 2.30.10
 //
CALSCALE:GREGORIAN
METHOD:PUBLISH
UID:2c17a5f7-8a09-4835-a7a2-25734e481cf8
X-WR-CALDESC:
X-WR-RELCALID:aa497fc7199cd5bd93b4d150b1f50689
X-WR-TIMEZONE:America/Chicago
BEGIN:VTIMEZONE
TZID:America/Chicago
BEGIN:STANDARD
TZNAME:CST
DTSTART:20301103T020000
TZOFFSETFROM:-0500
TZOFFSETTO:-0600
RDATE:20311102T020000
END:STANDARD
BEGIN:DAYLIGHT
TZNAME:CDT
DTSTART:20310309T020000
TZOFFSETFROM:-0600
TZOFFSETTO:-0500
RDATE:20320314T020000
END:DAYLIGHT
END:VTIMEZONE
BEGIN:VEVENT
UID:9057ae14-c72a-4a70-8367-3e18d2b4209a
DTSTAMP:20260424T024211Z
DESCRIPTION:
DTSTART;TZID=America/Chicago:20310325T170000
DTEND;TZID=America/Chicago:20310325T200000
LOCATION:
SUMMARY:Volunteer Training
END:VEVENT
END:VCALENDAR
