BEGIN:VCALENDAR
VERSION:2.0
PRODID:-//webinar.firespring.org//NONSGML kigkonsult.se iCalcreator 2.30.10
 //
CALSCALE:GREGORIAN
METHOD:PUBLISH
UID:baef1b6e-72ce-4e70-822c-9a5e32f63d4a
X-WR-CALDESC:
X-WR-RELCALID:bf246ed1cb7cc581376179c7c69ad973
X-WR-TIMEZONE:America/Chicago
BEGIN:VTIMEZONE
TZID:America/Chicago
BEGIN:STANDARD
TZNAME:CST
DTSTART:20301103T020000
TZOFFSETFROM:-0500
TZOFFSETTO:-0600
RDATE:20311102T020000
END:STANDARD
BEGIN:DAYLIGHT
TZNAME:CDT
DTSTART:20300310T020000
TZOFFSETFROM:-0600
TZOFFSETTO:-0500
RDATE:20310309T020000
RDATE:20320314T020000
END:DAYLIGHT
END:VTIMEZONE
BEGIN:VEVENT
UID:d13ee1b2-5346-477f-9eee-ff0e974bb3eb
DTSTAMP:20260423T233200Z
DESCRIPTION:
DTSTART;TZID=America/Chicago:20310128T170000
DTEND;TZID=America/Chicago:20310128T200000
LOCATION:
SUMMARY:Volunteer Training
END:VEVENT
END:VCALENDAR
