BEGIN:VCALENDAR
VERSION:2.0
PRODID:-//webinar.firespring.org//NONSGML kigkonsult.se iCalcreator 2.30.10
 //
CALSCALE:GREGORIAN
METHOD:PUBLISH
UID:4808a4f8-c74f-46c5-83b3-050b0a08f73f
X-WR-CALDESC:
X-WR-RELCALID:bcd0a593b0fe3f230d7af3ba793ba297
X-WR-TIMEZONE:America/Chicago
BEGIN:VTIMEZONE
TZID:America/Chicago
BEGIN:STANDARD
TZNAME:CST
DTSTART:20301103T020000
TZOFFSETFROM:-0500
TZOFFSETTO:-0600
RDATE:20311102T020000
END:STANDARD
BEGIN:DAYLIGHT
TZNAME:CDT
DTSTART:20300310T020000
TZOFFSETFROM:-0600
TZOFFSETTO:-0500
RDATE:20310309T020000
RDATE:20320314T020000
END:DAYLIGHT
END:VTIMEZONE
BEGIN:VEVENT
UID:3517a3db-0109-4d6f-a5fa-54e999086106
DTSTAMP:20260423T220253Z
DESCRIPTION:
DTSTART;TZID=America/Chicago:20301224T170000
DTEND;TZID=America/Chicago:20301224T200000
LOCATION:
SUMMARY:Volunteer Training
END:VEVENT
END:VCALENDAR
