BEGIN:VCALENDAR
VERSION:2.0
PRODID:-//webinar.firespring.org//NONSGML kigkonsult.se iCalcreator 2.30.10
 //
CALSCALE:GREGORIAN
METHOD:PUBLISH
UID:c334ceaa-02ff-4696-9981-b7a8024b463e
X-WR-CALDESC:Join us for our monthly staff meeting.
X-WR-RELCALID:f1a729b7175c33fe1ffcc253b5391ac9
X-WR-TIMEZONE:America/Chicago
BEGIN:VTIMEZONE
TZID:America/Chicago
BEGIN:STANDARD
TZNAME:CST
DTSTART:20301103T020000
TZOFFSETFROM:-0500
TZOFFSETTO:-0600
RDATE:20311102T020000
END:STANDARD
BEGIN:DAYLIGHT
TZNAME:CDT
DTSTART:20300310T020000
TZOFFSETFROM:-0600
TZOFFSETTO:-0500
RDATE:20310309T020000
RDATE:20320314T020000
END:DAYLIGHT
END:VTIMEZONE
BEGIN:VEVENT
UID:78941882-de13-4d11-91bd-4e4d13e3f6c4
DTSTAMP:20260423T220620Z
DESCRIPTION:Join us for our monthly staff meeting.
DTSTART;TZID=America/Chicago:20301205T140000
DTEND;TZID=America/Chicago:20301205T153000
LOCATION:1201 Infinity Court Lincoln NE
SUMMARY:Staff Meeting
END:VEVENT
END:VCALENDAR
