BEGIN:VCALENDAR
VERSION:2.0
PRODID:-//webinar.firespring.org//NONSGML kigkonsult.se iCalcreator 2.30.10
 //
CALSCALE:GREGORIAN
METHOD:PUBLISH
UID:d05aef7e-4877-4c7d-b4bb-929a2f470f88
X-WR-CALDESC:
X-WR-RELCALID:e0e0d508cf14829a72049975f4b30eb5
X-WR-TIMEZONE:America/Chicago
BEGIN:VTIMEZONE
TZID:America/Chicago
BEGIN:STANDARD
TZNAME:CST
DTSTART:20301103T020000
TZOFFSETFROM:-0500
TZOFFSETTO:-0600
RDATE:20311102T020000
END:STANDARD
BEGIN:DAYLIGHT
TZNAME:CDT
DTSTART:20300310T020000
TZOFFSETFROM:-0600
TZOFFSETTO:-0500
RDATE:20310309T020000
RDATE:20320314T020000
END:DAYLIGHT
END:VTIMEZONE
BEGIN:VEVENT
UID:af22e450-329b-4ae4-862a-62206a3b7b41
DTSTAMP:20260423T203248Z
DESCRIPTION:
DTSTART;TZID=America/Chicago:20301126T170000
DTEND;TZID=America/Chicago:20301126T200000
LOCATION:
SUMMARY:Volunteer Training
END:VEVENT
END:VCALENDAR
