BEGIN:VCALENDAR
VERSION:2.0
PRODID:-//webinar.firespring.org//NONSGML kigkonsult.se iCalcreator 2.30.10
 //
CALSCALE:GREGORIAN
METHOD:PUBLISH
UID:c955fa4a-d199-4513-9d03-8d2656ce182b
X-WR-CALDESC:
X-WR-RELCALID:a9becade6fb707351be502eb13d7a860
X-WR-TIMEZONE:America/Chicago
BEGIN:VTIMEZONE
TZID:America/Chicago
BEGIN:STANDARD
TZNAME:CST
DTSTART:20291104T020000
TZOFFSETFROM:-0500
TZOFFSETTO:-0600
RDATE:20301103T020000
RDATE:20311102T020000
END:STANDARD
BEGIN:DAYLIGHT
TZNAME:CDT
DTSTART:20300310T020000
TZOFFSETFROM:-0600
TZOFFSETTO:-0500
RDATE:20310309T020000
RDATE:20320314T020000
END:DAYLIGHT
END:VTIMEZONE
BEGIN:VEVENT
UID:51201a4b-659d-495b-9f08-a15c5324c3d5
DTSTAMP:20260423T190452Z
DESCRIPTION:
DTSTART;TZID=America/Chicago:20301022T170000
DTEND;TZID=America/Chicago:20301022T200000
LOCATION:
SUMMARY:Volunteer Training
END:VEVENT
END:VCALENDAR
