BEGIN:VCALENDAR
VERSION:2.0
PRODID:-//webinar.firespring.org//NONSGML kigkonsult.se iCalcreator 2.30.10
 //
CALSCALE:GREGORIAN
METHOD:PUBLISH
UID:39165cfe-b023-4c20-8ed6-45588fef49a8
X-WR-CALDESC:
X-WR-RELCALID:8df824bafbe6b9a42dbabcc441a6b4ab
X-WR-TIMEZONE:America/Chicago
BEGIN:VTIMEZONE
TZID:America/Chicago
BEGIN:STANDARD
TZNAME:CST
DTSTART:20291104T020000
TZOFFSETFROM:-0500
TZOFFSETTO:-0600
RDATE:20301103T020000
RDATE:20311102T020000
END:STANDARD
BEGIN:DAYLIGHT
TZNAME:CDT
DTSTART:20300310T020000
TZOFFSETFROM:-0600
TZOFFSETTO:-0500
RDATE:20310309T020000
RDATE:20320314T020000
END:DAYLIGHT
END:VTIMEZONE
BEGIN:VEVENT
UID:d9e4ee0d-f01a-4f7d-b15c-7c20a64aae8a
DTSTAMP:20260423T173252Z
DESCRIPTION:
DTSTART;TZID=America/Chicago:20300924T170000
DTEND;TZID=America/Chicago:20300924T200000
LOCATION:
SUMMARY:Volunteer Training
END:VEVENT
END:VCALENDAR
