BEGIN:VCALENDAR
VERSION:2.0
PRODID:-//webinar.firespring.org//NONSGML kigkonsult.se iCalcreator 2.30.10
 //
CALSCALE:GREGORIAN
METHOD:PUBLISH
UID:fc9a6362-3089-4656-9002-dd4eb3a4d612
X-WR-CALDESC:
X-WR-RELCALID:da88c52aacebc7f90ee1256512b279e2
X-WR-TIMEZONE:America/Chicago
BEGIN:VTIMEZONE
TZID:America/Chicago
BEGIN:STANDARD
TZNAME:CST
DTSTART:20291104T020000
TZOFFSETFROM:-0500
TZOFFSETTO:-0600
RDATE:20301103T020000
RDATE:20311102T020000
END:STANDARD
BEGIN:DAYLIGHT
TZNAME:CDT
DTSTART:20300310T020000
TZOFFSETFROM:-0600
TZOFFSETTO:-0500
RDATE:20310309T020000
END:DAYLIGHT
END:VTIMEZONE
BEGIN:VEVENT
UID:f6276262-13c1-4b62-8449-0fcf8ad36826
DTSTAMP:20260423T124418Z
DESCRIPTION:
DTSTART;TZID=America/Chicago:20300625T170000
DTEND;TZID=America/Chicago:20300625T200000
LOCATION:
SUMMARY:Volunteer Training
END:VEVENT
END:VCALENDAR
