BEGIN:VCALENDAR
VERSION:2.0
PRODID:-//webinar.firespring.org//NONSGML kigkonsult.se iCalcreator 2.30.10
 //
CALSCALE:GREGORIAN
METHOD:PUBLISH
UID:432deb1e-e13c-49a8-8d97-ee315dd03e3e
X-WR-CALDESC:
X-WR-RELCALID:aa2af2461e480545d883ac3c89d10eb2
X-WR-TIMEZONE:America/Chicago
BEGIN:VTIMEZONE
TZID:America/Chicago
BEGIN:STANDARD
TZNAME:CST
DTSTART:20291104T020000
TZOFFSETFROM:-0500
TZOFFSETTO:-0600
RDATE:20301103T020000
RDATE:20311102T020000
END:STANDARD
BEGIN:DAYLIGHT
TZNAME:CDT
DTSTART:20300310T020000
TZOFFSETFROM:-0600
TZOFFSETTO:-0500
RDATE:20310309T020000
END:DAYLIGHT
END:VTIMEZONE
BEGIN:VEVENT
UID:26186a84-ddff-4e6c-a7fa-aa2026aa75c0
DTSTAMP:20260423T111946Z
DESCRIPTION:
DTSTART;TZID=America/Chicago:20300528T170000
DTEND;TZID=America/Chicago:20300528T200000
LOCATION:
SUMMARY:Volunteer Training
END:VEVENT
END:VCALENDAR
