BEGIN:VCALENDAR
VERSION:2.0
PRODID:-//webinar.firespring.org//NONSGML kigkonsult.se iCalcreator 2.30.10
 //
CALSCALE:GREGORIAN
METHOD:PUBLISH
UID:e046b560-3c19-4cf6-8908-8db68a00b0d9
X-WR-CALDESC:
X-WR-RELCALID:0092cc28f62a1eaeeec0f56f5807a290
X-WR-TIMEZONE:America/Chicago
BEGIN:VTIMEZONE
TZID:America/Chicago
BEGIN:STANDARD
TZNAME:CST
DTSTART:20291104T020000
TZOFFSETFROM:-0500
TZOFFSETTO:-0600
RDATE:20301103T020000
END:STANDARD
BEGIN:DAYLIGHT
TZNAME:CDT
DTSTART:20300310T020000
TZOFFSETFROM:-0600
TZOFFSETTO:-0500
RDATE:20310309T020000
END:DAYLIGHT
END:VTIMEZONE
BEGIN:VEVENT
UID:8a45aa16-e6ad-4e10-8d34-bbafdd0b4d75
DTSTAMP:20260423T090055Z
DESCRIPTION:
DTSTART;TZID=America/Chicago:20300328T110000
DTEND;TZID=America/Chicago:20300328T120000
LOCATION:
SUMMARY:Board Member Meeting
END:VEVENT
END:VCALENDAR
