BEGIN:VCALENDAR
VERSION:2.0
PRODID:-//webinar.firespring.org//NONSGML kigkonsult.se iCalcreator 2.30.10
 //
CALSCALE:GREGORIAN
METHOD:PUBLISH
UID:81a6d302-e157-44e9-93e7-db09a46105c6
X-WR-CALDESC:
X-WR-RELCALID:06544198fd10d09627d0356db51e57ac
X-WR-TIMEZONE:America/Chicago
BEGIN:VTIMEZONE
TZID:America/Chicago
BEGIN:STANDARD
TZNAME:CST
DTSTART:20291104T020000
TZOFFSETFROM:-0500
TZOFFSETTO:-0600
RDATE:20301103T020000
END:STANDARD
BEGIN:DAYLIGHT
TZNAME:CDT
DTSTART:20300310T020000
TZOFFSETFROM:-0600
TZOFFSETTO:-0500
RDATE:20310309T020000
END:DAYLIGHT
END:VTIMEZONE
BEGIN:VEVENT
UID:f177741b-8daf-4218-81d2-94bb9955c657
DTSTAMP:20260423T084910Z
DESCRIPTION:
DTSTART;TZID=America/Chicago:20300326T170000
DTEND;TZID=America/Chicago:20300326T200000
LOCATION:
SUMMARY:Volunteer Training
END:VEVENT
END:VCALENDAR
