BEGIN:VCALENDAR
VERSION:2.0
PRODID:-//webinar.firespring.org//NONSGML kigkonsult.se iCalcreator 2.30.10
 //
CALSCALE:GREGORIAN
METHOD:PUBLISH
UID:6240b3bd-9010-46d7-83a0-b7c4b07159ea
X-WR-CALDESC:
X-WR-RELCALID:cfa4c6cfcf2f2070a443af91bfe48700
X-WR-TIMEZONE:America/Chicago
BEGIN:VTIMEZONE
TZID:America/Chicago
BEGIN:STANDARD
TZNAME:CST
DTSTART:20291104T020000
TZOFFSETFROM:-0500
TZOFFSETTO:-0600
RDATE:20301103T020000
END:STANDARD
BEGIN:DAYLIGHT
TZNAME:CDT
DTSTART:20300310T020000
TZOFFSETFROM:-0600
TZOFFSETTO:-0500
RDATE:20310309T020000
END:DAYLIGHT
END:VTIMEZONE
BEGIN:VEVENT
UID:b2eaa191-c9cb-4a7f-bff1-6e319dcec0d7
DTSTAMP:20260423T084943Z
DESCRIPTION:
DTSTART;TZID=America/Chicago:20300326T100000
DTEND;TZID=America/Chicago:20300326T103000
LOCATION:
SUMMARY:Donation Forms and Fundraisers
END:VEVENT
END:VCALENDAR
