BEGIN:VCALENDAR
VERSION:2.0
PRODID:-//webinar.firespring.org//NONSGML kigkonsult.se iCalcreator 2.30.10
 //
CALSCALE:GREGORIAN
METHOD:PUBLISH
UID:0c5ae4de-8601-4ba4-bc52-f0ceaf993bba
X-WR-CALDESC:
X-WR-RELCALID:f06b5a69c732c86a25211654033e5aae
X-WR-TIMEZONE:America/Chicago
BEGIN:VTIMEZONE
TZID:America/Chicago
BEGIN:STANDARD
TZNAME:CST
DTSTART:20281105T020000
TZOFFSETFROM:-0500
TZOFFSETTO:-0600
RDATE:20291104T020000
RDATE:20301103T020000
END:STANDARD
BEGIN:DAYLIGHT
TZNAME:CDT
DTSTART:20290311T020000
TZOFFSETFROM:-0600
TZOFFSETTO:-0500
RDATE:20300310T020000
RDATE:20310309T020000
END:DAYLIGHT
END:VTIMEZONE
BEGIN:VEVENT
UID:ac679898-7a22-4fbc-88d1-d78741f3667f
DTSTAMP:20260422T234520Z
DESCRIPTION:
DTSTART;TZID=America/Chicago:20290913T140000
DTEND;TZID=America/Chicago:20290913T150000
LOCATION:
SUMMARY:Springboard 102: All About Events
END:VEVENT
END:VCALENDAR
