BEGIN:VCALENDAR
VERSION:2.0
PRODID:-//webinar.firespring.org//NONSGML kigkonsult.se iCalcreator 2.30.10
 //
CALSCALE:GREGORIAN
METHOD:PUBLISH
UID:159d900e-4411-4e32-972a-a8074746401a
X-WR-CALDESC:One day of giving to benefit our great organization.
X-WR-RELCALID:1ce9eda3d7ca0d4a9d75f9a2b11b8a9d
X-WR-TIMEZONE:America/Chicago
BEGIN:VTIMEZONE
TZID:America/Chicago
BEGIN:STANDARD
TZNAME:CST
DTSTART:20281105T020000
TZOFFSETFROM:-0500
TZOFFSETTO:-0600
RDATE:20291104T020000
RDATE:20301103T020000
END:STANDARD
BEGIN:DAYLIGHT
TZNAME:CDT
DTSTART:20290311T020000
TZOFFSETFROM:-0600
TZOFFSETTO:-0500
RDATE:20300310T020000
END:DAYLIGHT
END:VTIMEZONE
BEGIN:VEVENT
UID:3a97aed4-fde5-4e23-8cec-11d5a038d8ce
DTSTAMP:20260422T234546Z
DESCRIPTION:One day of giving to benefit our great organization.
DTSTART;TZID=America/Chicago:20290906T000000
DTEND;TZID=America/Chicago:20290906T235900
LOCATION:1201 Infinity Court Lincoln Ne 68512
SUMMARY:Day of Giving
END:VEVENT
END:VCALENDAR
