BEGIN:VCALENDAR
VERSION:2.0
PRODID:-//webinar.firespring.org//NONSGML kigkonsult.se iCalcreator 2.30.10
 //
CALSCALE:GREGORIAN
METHOD:PUBLISH
UID:d2f959fe-7a07-4604-bf71-f7f1bc797c1c
X-WR-CALDESC:
X-WR-RELCALID:29984870ecd55d7987be8c5bcf9f2e91
X-WR-TIMEZONE:America/Chicago
BEGIN:VTIMEZONE
TZID:America/Chicago
BEGIN:STANDARD
TZNAME:CST
DTSTART:20281105T020000
TZOFFSETFROM:-0500
TZOFFSETTO:-0600
RDATE:20291104T020000
END:STANDARD
BEGIN:DAYLIGHT
TZNAME:CDT
DTSTART:20290311T020000
TZOFFSETFROM:-0600
TZOFFSETTO:-0500
RDATE:20300310T020000
END:DAYLIGHT
END:VTIMEZONE
BEGIN:VEVENT
UID:b69e7789-1bee-4e00-a13d-ebff4b017684
DTSTAMP:20260422T161609Z
DESCRIPTION:
DTSTART;TZID=America/Chicago:20290424T170000
DTEND;TZID=America/Chicago:20290424T200000
LOCATION:
SUMMARY:Volunteer Training
END:VEVENT
END:VCALENDAR
