BEGIN:VCALENDAR
VERSION:2.0
PRODID:-//webinar.firespring.org//NONSGML kigkonsult.se iCalcreator 2.30.10
 //
CALSCALE:GREGORIAN
METHOD:PUBLISH
UID:ad6f60a8-b969-414c-bb8b-a31c13f3c7dc
X-WR-CALDESC:
X-WR-RELCALID:8b2b40bff2bf5d4f6d64909a9aa7905c
X-WR-TIMEZONE:America/Chicago
BEGIN:VTIMEZONE
TZID:America/Chicago
BEGIN:STANDARD
TZNAME:CST
DTSTART:20281105T020000
TZOFFSETFROM:-0500
TZOFFSETTO:-0600
RDATE:20291104T020000
END:STANDARD
BEGIN:DAYLIGHT
TZNAME:CDT
DTSTART:20290311T020000
TZOFFSETFROM:-0600
TZOFFSETTO:-0500
RDATE:20300310T020000
END:DAYLIGHT
END:VTIMEZONE
BEGIN:VEVENT
UID:f9e3a673-f57c-491a-95c9-073a0902cd80
DTSTAMP:20260422T142542Z
DESCRIPTION:
DTSTART;TZID=America/Chicago:20290329T140000
DTEND;TZID=America/Chicago:20290329T150000
LOCATION:
SUMMARY:Springboard 102: All About Events
END:VEVENT
END:VCALENDAR
