BEGIN:VCALENDAR
VERSION:2.0
PRODID:-//webinar.firespring.org//NONSGML kigkonsult.se iCalcreator 2.30.10
 //
CALSCALE:GREGORIAN
METHOD:PUBLISH
UID:27e38b84-6401-4be2-86a9-446c54d66da9
X-WR-CALDESC:
X-WR-RELCALID:e00bbdc1af8bec080c7ee242c6df1c1e
X-WR-TIMEZONE:America/Chicago
BEGIN:VTIMEZONE
TZID:America/Chicago
BEGIN:STANDARD
TZNAME:CST
DTSTART:20281105T020000
TZOFFSETFROM:-0500
TZOFFSETTO:-0600
RDATE:20291104T020000
END:STANDARD
BEGIN:DAYLIGHT
TZNAME:CDT
DTSTART:20290311T020000
TZOFFSETFROM:-0600
TZOFFSETTO:-0500
RDATE:20300310T020000
END:DAYLIGHT
END:VTIMEZONE
BEGIN:VEVENT
UID:5a076c52-a427-46d6-94cf-c55342b57cbc
DTSTAMP:20260422T142251Z
DESCRIPTION:
DTSTART;TZID=America/Chicago:20290327T170000
DTEND;TZID=America/Chicago:20290327T200000
LOCATION:
SUMMARY:Volunteer Training
END:VEVENT
END:VCALENDAR
