BEGIN:VCALENDAR
VERSION:2.0
PRODID:-//webinar.firespring.org//NONSGML kigkonsult.se iCalcreator 2.30.10
 //
CALSCALE:GREGORIAN
METHOD:PUBLISH
UID:cd9e2fc7-0801-4222-8de7-352874e15224
X-WR-CALDESC:
X-WR-RELCALID:5459f474696d2d795e3df483b7f63e4f
X-WR-TIMEZONE:America/Chicago
BEGIN:VTIMEZONE
TZID:America/Chicago
BEGIN:STANDARD
TZNAME:CST
DTSTART:20271107T020000
TZOFFSETFROM:-0500
TZOFFSETTO:-0600
RDATE:20281105T020000
RDATE:20291104T020000
END:STANDARD
BEGIN:DAYLIGHT
TZNAME:CDT
DTSTART:20280312T020000
TZOFFSETFROM:-0600
TZOFFSETTO:-0500
RDATE:20290311T020000
RDATE:20300310T020000
END:DAYLIGHT
END:VTIMEZONE
BEGIN:VEVENT
UID:2192f8c2-7bbc-4930-ab3c-b98286bc860c
DTSTAMP:20260422T041642Z
DESCRIPTION:
DTSTART;TZID=America/Chicago:20280926T170000
DTEND;TZID=America/Chicago:20280926T200000
LOCATION:
SUMMARY:Volunteer Training
END:VEVENT
END:VCALENDAR
