BEGIN:VCALENDAR
VERSION:2.0
PRODID:-//webinar.firespring.org//NONSGML kigkonsult.se iCalcreator 2.30.10
 //
CALSCALE:GREGORIAN
METHOD:PUBLISH
UID:9b60b8c2-f611-4546-99a4-d2638da98e4d
X-WR-CALDESC:
X-WR-RELCALID:4543ca67337d7dc5aa94136f288196a7
X-WR-TIMEZONE:America/Chicago
BEGIN:VTIMEZONE
TZID:America/Chicago
BEGIN:STANDARD
TZNAME:CST
DTSTART:20271107T020000
TZOFFSETFROM:-0500
TZOFFSETTO:-0600
RDATE:20281105T020000
RDATE:20291104T020000
END:STANDARD
BEGIN:DAYLIGHT
TZNAME:CDT
DTSTART:20280312T020000
TZOFFSETFROM:-0600
TZOFFSETTO:-0500
RDATE:20290311T020000
END:DAYLIGHT
END:VTIMEZONE
BEGIN:VEVENT
UID:bb4253d1-9d1c-43c2-94bd-c704ea31d66d
DTSTAMP:20260422T020016Z
DESCRIPTION:
DTSTART;TZID=America/Chicago:20280725T170000
DTEND;TZID=America/Chicago:20280725T200000
LOCATION:
SUMMARY:Volunteer Training
END:VEVENT
END:VCALENDAR
