BEGIN:VCALENDAR
VERSION:2.0
PRODID:-//webinar.firespring.org//NONSGML kigkonsult.se iCalcreator 2.30.10
 //
CALSCALE:GREGORIAN
METHOD:PUBLISH
UID:21873e61-f32d-499a-80f2-9b1da3732674
X-WR-CALDESC:
X-WR-RELCALID:b76909cdaa2ff7b8205c3986b46c5881
X-WR-TIMEZONE:America/Chicago
BEGIN:VTIMEZONE
TZID:America/Chicago
BEGIN:STANDARD
TZNAME:CST
DTSTART:20271107T020000
TZOFFSETFROM:-0500
TZOFFSETTO:-0600
RDATE:20281105T020000
END:STANDARD
BEGIN:DAYLIGHT
TZNAME:CDT
DTSTART:20280312T020000
TZOFFSETFROM:-0600
TZOFFSETTO:-0500
RDATE:20290311T020000
END:DAYLIGHT
END:VTIMEZONE
BEGIN:VEVENT
UID:9c822c35-bff9-4b7c-a9a8-e68861a90b5a
DTSTAMP:20260421T200656Z
DESCRIPTION:
DTSTART;TZID=America/Chicago:20280425T170000
DTEND;TZID=America/Chicago:20280425T200000
LOCATION:
SUMMARY:Volunteer Training
END:VEVENT
END:VCALENDAR
