BEGIN:VCALENDAR
VERSION:2.0
PRODID:-//webinar.firespring.org//NONSGML kigkonsult.se iCalcreator 2.30.10
 //
CALSCALE:GREGORIAN
METHOD:PUBLISH
UID:b7c03193-8c2d-434d-99b1-b0890721e0e1
X-WR-CALDESC:
X-WR-RELCALID:e703f1e01a641aca132b920977800c12
X-WR-TIMEZONE:America/Chicago
BEGIN:VTIMEZONE
TZID:America/Chicago
BEGIN:STANDARD
TZNAME:CST
DTSTART:20271107T020000
TZOFFSETFROM:-0500
TZOFFSETTO:-0600
RDATE:20281105T020000
END:STANDARD
BEGIN:DAYLIGHT
TZNAME:CDT
DTSTART:20280312T020000
TZOFFSETFROM:-0600
TZOFFSETTO:-0500
RDATE:20290311T020000
END:DAYLIGHT
END:VTIMEZONE
BEGIN:VEVENT
UID:0f2ecb04-8703-457f-975e-8af89d873286
DTSTAMP:20260421T182817Z
DESCRIPTION:
DTSTART;TZID=America/Chicago:20280330T140000
DTEND;TZID=America/Chicago:20280330T150000
LOCATION:
SUMMARY:Springboard 102: All About Events
END:VEVENT
END:VCALENDAR
