BEGIN:VCALENDAR
VERSION:2.0
PRODID:-//webinar.firespring.org//NONSGML kigkonsult.se iCalcreator 2.30.10
 //
CALSCALE:GREGORIAN
METHOD:PUBLISH
UID:3fcab14d-7697-41f5-bab7-85fba2171c4b
X-WR-CALDESC:
X-WR-RELCALID:c68c550cddc6ff96f375143199a5d744
X-WR-TIMEZONE:America/Chicago
BEGIN:VTIMEZONE
TZID:America/Chicago
BEGIN:STANDARD
TZNAME:CST
DTSTART:20271107T020000
TZOFFSETFROM:-0500
TZOFFSETTO:-0600
RDATE:20281105T020000
END:STANDARD
BEGIN:DAYLIGHT
TZNAME:CDT
DTSTART:20270314T020000
TZOFFSETFROM:-0600
TZOFFSETTO:-0500
RDATE:20280312T020000
RDATE:20290311T020000
END:DAYLIGHT
END:VTIMEZONE
BEGIN:VEVENT
UID:986a898b-b6e5-4f0f-8daf-76c775398ffa
DTSTAMP:20260421T113600Z
DESCRIPTION:
DTSTART;TZID=America/Chicago:20271123T170000
DTEND;TZID=America/Chicago:20271123T200000
LOCATION:
SUMMARY:Volunteer Training
END:VEVENT
END:VCALENDAR
