BEGIN:VCALENDAR
VERSION:2.0
PRODID:-//webinar.firespring.org//NONSGML kigkonsult.se iCalcreator 2.30.10
 //
CALSCALE:GREGORIAN
METHOD:PUBLISH
UID:f80cb94b-0412-4663-ab1f-15c86a4c4ccc
X-WR-CALDESC:
X-WR-RELCALID:9c6a72293415884bfc7af6dc9dc7deee
X-WR-TIMEZONE:America/Chicago
BEGIN:VTIMEZONE
TZID:America/Chicago
BEGIN:STANDARD
TZNAME:CST
DTSTART:20261101T020000
TZOFFSETFROM:-0500
TZOFFSETTO:-0600
RDATE:20271107T020000
RDATE:20281105T020000
END:STANDARD
BEGIN:DAYLIGHT
TZNAME:CDT
DTSTART:20270314T020000
TZOFFSETFROM:-0600
TZOFFSETTO:-0500
RDATE:20280312T020000
RDATE:20290311T020000
END:DAYLIGHT
END:VTIMEZONE
BEGIN:VEVENT
UID:72ef7588-3135-49b0-9032-02ecc608f25f
DTSTAMP:20260423T085039Z
DESCRIPTION:
DTSTART;TZID=America/Chicago:20270928T170000
DTEND;TZID=America/Chicago:20270928T200000
LOCATION:
SUMMARY:Volunteer Training
END:VEVENT
END:VCALENDAR
