BEGIN:VCALENDAR
VERSION:2.0
PRODID:-//webinar.firespring.org//NONSGML kigkonsult.se iCalcreator 2.30.10
 //
CALSCALE:GREGORIAN
METHOD:PUBLISH
UID:16a95f7e-eddd-4b5f-8987-e31a09e1f255
X-WR-CALDESC:
X-WR-RELCALID:b58190b70d635aa6f871d65491c26d52
X-WR-TIMEZONE:America/Chicago
BEGIN:VTIMEZONE
TZID:America/Chicago
BEGIN:STANDARD
TZNAME:CST
DTSTART:20231105T020000
TZOFFSETFROM:-0500
TZOFFSETTO:-0600
RDATE:20241103T020000
RDATE:20251102T020000
END:STANDARD
BEGIN:DAYLIGHT
TZNAME:CDT
DTSTART:20240310T020000
TZOFFSETFROM:-0600
TZOFFSETTO:-0500
RDATE:20250309T020000
RDATE:20260308T020000
END:DAYLIGHT
END:VTIMEZONE
BEGIN:VEVENT
UID:176549e8-dcee-4f82-a9b7-5b098d139acc
DTSTAMP:20260423T085145Z
DESCRIPTION:
DTSTART;TZID=America/Chicago:20241022T170000
DTEND;TZID=America/Chicago:20241022T200000
LOCATION:
SUMMARY:Volunteer Training
END:VEVENT
END:VCALENDAR
