BEGIN:VCALENDAR
VERSION:2.0
PRODID:-//webinar.firespring.org//NONSGML kigkonsult.se iCalcreator 2.30.10
 //
CALSCALE:GREGORIAN
METHOD:PUBLISH
UID:894b80e2-07db-4cf2-967d-3b8dc4997da0
X-WR-CALDESC:
X-WR-RELCALID:7a1c691f6b5ce786104cb2b8bc4de147
X-WR-TIMEZONE:America/Chicago
BEGIN:VTIMEZONE
TZID:America/Chicago
BEGIN:STANDARD
TZNAME:CST
DTSTART:20231105T020000
TZOFFSETFROM:-0500
TZOFFSETTO:-0600
RDATE:20241103T020000
RDATE:20251102T020000
END:STANDARD
BEGIN:DAYLIGHT
TZNAME:CDT
DTSTART:20240310T020000
TZOFFSETFROM:-0600
TZOFFSETTO:-0500
RDATE:20250309T020000
RDATE:20260308T020000
END:DAYLIGHT
END:VTIMEZONE
BEGIN:VEVENT
UID:974cf9d2-7bf4-4eab-b112-e0fd145d0aeb
DTSTAMP:20260421T095531Z
DESCRIPTION:
DTSTART;TZID=America/Chicago:20240924T170000
DTEND;TZID=America/Chicago:20240924T200000
LOCATION:
SUMMARY:Volunteer Training
END:VEVENT
END:VCALENDAR
