BEGIN:VCALENDAR
VERSION:2.0
PRODID:-//webinar.firespring.org//NONSGML kigkonsult.se iCalcreator 2.30.10
 //
CALSCALE:GREGORIAN
METHOD:PUBLISH
UID:94b2ab36-9573-4224-9e93-31d27394271e
X-WR-CALDESC:
X-WR-RELCALID:97acceb1e9e447ba83aaabf7811e1b70
X-WR-TIMEZONE:America/Chicago
BEGIN:VTIMEZONE
TZID:America/Chicago
BEGIN:STANDARD
TZNAME:CST
DTSTART:20231105T020000
TZOFFSETFROM:-0500
TZOFFSETTO:-0600
RDATE:20241103T020000
RDATE:20251102T020000
END:STANDARD
BEGIN:DAYLIGHT
TZNAME:CDT
DTSTART:20240310T020000
TZOFFSETFROM:-0600
TZOFFSETTO:-0500
RDATE:20250309T020000
END:DAYLIGHT
END:VTIMEZONE
BEGIN:VEVENT
UID:4d3e42b6-6927-43fc-b120-3b06a771c3b4
DTSTAMP:20260423T124516Z
DESCRIPTION:
DTSTART;TZID=America/Chicago:20240709T100000
DTEND;TZID=America/Chicago:20240709T103000
LOCATION:
SUMMARY:Donation Forms and Fundraisers
END:VEVENT
END:VCALENDAR
