BEGIN:VCALENDAR
VERSION:2.0
PRODID:-//webinar.firespring.org//NONSGML kigkonsult.se iCalcreator 2.30.10
 //
CALSCALE:GREGORIAN
METHOD:PUBLISH
UID:a19f131d-5bba-44a0-9ce9-ca686dc65de7
X-WR-CALDESC:
X-WR-RELCALID:e275f9438a3e75f20e53f355a180a561
X-WR-TIMEZONE:America/Chicago
BEGIN:VTIMEZONE
TZID:America/Chicago
BEGIN:STANDARD
TZNAME:CST
DTSTART:20231105T020000
TZOFFSETFROM:-0500
TZOFFSETTO:-0600
RDATE:20241103T020000
END:STANDARD
BEGIN:DAYLIGHT
TZNAME:CDT
DTSTART:20240310T020000
TZOFFSETFROM:-0600
TZOFFSETTO:-0500
RDATE:20250309T020000
END:DAYLIGHT
END:VTIMEZONE
BEGIN:VEVENT
UID:499ff2bf-392b-46c3-a7d1-24959b25c4fa
DTSTAMP:20260423T172414Z
DESCRIPTION:
DTSTART;TZID=America/Chicago:20240423T170000
DTEND;TZID=America/Chicago:20240423T200000
LOCATION:
SUMMARY:Volunteer Training
END:VEVENT
END:VCALENDAR
