BEGIN:VCALENDAR
VERSION:2.0
PRODID:-//webinar.firespring.org//NONSGML kigkonsult.se iCalcreator 2.30.10
 //
CALSCALE:GREGORIAN
METHOD:PUBLISH
UID:afb5ccad-0df5-4eb0-a33d-49f99b1ceef3
X-WR-CALDESC:
X-WR-RELCALID:4f1562f04e5acc1496140ef7cfaece03
X-WR-TIMEZONE:America/Chicago
BEGIN:VTIMEZONE
TZID:America/Chicago
BEGIN:STANDARD
TZNAME:CST
DTSTART:20231105T020000
TZOFFSETFROM:-0500
TZOFFSETTO:-0600
RDATE:20241103T020000
END:STANDARD
BEGIN:DAYLIGHT
TZNAME:CDT
DTSTART:20230312T020000
TZOFFSETFROM:-0600
TZOFFSETTO:-0500
RDATE:20240310T020000
RDATE:20250309T020000
END:DAYLIGHT
END:VTIMEZONE
BEGIN:VEVENT
UID:6035228b-420c-43a9-b769-1b57934437c9
DTSTAMP:20260423T202425Z
DESCRIPTION:
DTSTART;TZID=America/Chicago:20240227T170000
DTEND;TZID=America/Chicago:20240227T200000
LOCATION:
SUMMARY:Volunteer Training
END:VEVENT
END:VCALENDAR
