BEGIN:VCALENDAR
VERSION:2.0
PRODID:-//webinar.firespring.org//NONSGML kigkonsult.se iCalcreator 2.30.10
 //
CALSCALE:GREGORIAN
METHOD:PUBLISH
UID:28d78882-a924-468e-94a9-db53c725c0ff
X-WR-CALDESC:
X-WR-RELCALID:1b6da572162e8ac5602abed7ad5cac7c
X-WR-TIMEZONE:America/Chicago
BEGIN:VTIMEZONE
TZID:America/Chicago
BEGIN:STANDARD
TZNAME:CST
DTSTART:20231105T020000
TZOFFSETFROM:-0500
TZOFFSETTO:-0600
RDATE:20241103T020000
END:STANDARD
BEGIN:DAYLIGHT
TZNAME:CDT
DTSTART:20230312T020000
TZOFFSETFROM:-0600
TZOFFSETTO:-0500
RDATE:20240310T020000
RDATE:20250309T020000
END:DAYLIGHT
END:VTIMEZONE
BEGIN:VEVENT
UID:50715311-29d1-43ff-802e-9743d129670f
DTSTAMP:20260423T220346Z
DESCRIPTION:
DTSTART;TZID=America/Chicago:20240125T110000
DTEND;TZID=America/Chicago:20240125T120000
LOCATION:
SUMMARY:Board Member Meeting
END:VEVENT
END:VCALENDAR
