BEGIN:VCALENDAR
VERSION:2.0
PRODID:-//webinar.firespring.org//NONSGML kigkonsult.se iCalcreator 2.30.10
 //
CALSCALE:GREGORIAN
METHOD:PUBLISH
UID:22a72d63-e5e3-44a0-b5f8-52ff79d6d79c
X-WR-CALDESC:
X-WR-RELCALID:6cd333af5f307f805ca8e27431faf5d6
X-WR-TIMEZONE:America/Chicago
BEGIN:VTIMEZONE
TZID:America/Chicago
BEGIN:STANDARD
TZNAME:CST
DTSTART:20221106T020000
TZOFFSETFROM:-0500
TZOFFSETTO:-0600
RDATE:20231105T020000
RDATE:20241103T020000
END:STANDARD
BEGIN:DAYLIGHT
TZNAME:CDT
DTSTART:20230312T020000
TZOFFSETFROM:-0600
TZOFFSETTO:-0500
RDATE:20240310T020000
RDATE:20250309T020000
END:DAYLIGHT
END:VTIMEZONE
BEGIN:VEVENT
UID:da0ca46a-f09b-4d52-9d1d-7ed6f8d22c22
DTSTAMP:20260424T025243Z
DESCRIPTION:
DTSTART;TZID=America/Chicago:20231024T170000
DTEND;TZID=America/Chicago:20231024T200000
LOCATION:
SUMMARY:Volunteer Training
END:VEVENT
END:VCALENDAR
