BEGIN:VCALENDAR
VERSION:2.0
PRODID:-//webinar.firespring.org//NONSGML kigkonsult.se iCalcreator 2.30.10
 //
CALSCALE:GREGORIAN
METHOD:PUBLISH
UID:b088f1e5-1725-448e-a40d-b747ca98afce
X-WR-CALDESC:
X-WR-RELCALID:153336efe2d48140b0608afe02256fd8
X-WR-TIMEZONE:America/Chicago
BEGIN:VTIMEZONE
TZID:America/Chicago
BEGIN:STANDARD
TZNAME:CST
DTSTART:20221106T020000
TZOFFSETFROM:-0500
TZOFFSETTO:-0600
RDATE:20231105T020000
RDATE:20241103T020000
END:STANDARD
BEGIN:DAYLIGHT
TZNAME:CDT
DTSTART:20230312T020000
TZOFFSETFROM:-0600
TZOFFSETTO:-0500
RDATE:20240310T020000
END:DAYLIGHT
END:VTIMEZONE
BEGIN:VEVENT
UID:6160b6db-aedc-4451-ab48-968b39021e1c
DTSTAMP:20260424T054743Z
DESCRIPTION:
DTSTART;TZID=America/Chicago:20230824T160000
DTEND;TZID=America/Chicago:20230824T170000
LOCATION:
SUMMARY:testing 123
END:VEVENT
END:VCALENDAR
