BEGIN:VCALENDAR
VERSION:2.0
PRODID:-//webinar.firespring.org//NONSGML kigkonsult.se iCalcreator 2.30.10
 //
CALSCALE:GREGORIAN
METHOD:PUBLISH
UID:6b3b7365-f2d8-4832-a0f5-c151dabd5e77
X-WR-CALDESC:
X-WR-RELCALID:2d7972ae856b4bb5814e870cd6c95d5e
X-WR-TIMEZONE:America/Chicago
BEGIN:VTIMEZONE
TZID:America/Chicago
BEGIN:STANDARD
TZNAME:CST
DTSTART:20221106T020000
TZOFFSETFROM:-0500
TZOFFSETTO:-0600
RDATE:20231105T020000
RDATE:20241103T020000
END:STANDARD
BEGIN:DAYLIGHT
TZNAME:CDT
DTSTART:20230312T020000
TZOFFSETFROM:-0600
TZOFFSETTO:-0500
RDATE:20240310T020000
END:DAYLIGHT
END:VTIMEZONE
BEGIN:VEVENT
UID:f40def3e-4561-4f96-bace-7ce6ee8e6065
DTSTAMP:20260424T053317Z
DESCRIPTION:
DTSTART;TZID=America/Chicago:20230824T163000
DTEND;TZID=America/Chicago:20230824T173000
LOCATION:
SUMMARY:TEST
END:VEVENT
END:VCALENDAR
