BEGIN:VCALENDAR
VERSION:2.0
PRODID:-//webinar.firespring.org//NONSGML kigkonsult.se iCalcreator 2.30.10
 //
CALSCALE:GREGORIAN
METHOD:PUBLISH
UID:83164d26-de87-4bdf-9393-154a96f30d7b
X-WR-CALDESC:
X-WR-RELCALID:061fb7f762332b5f07c843e116d94e8e
X-WR-TIMEZONE:America/Chicago
BEGIN:VTIMEZONE
TZID:America/Chicago
BEGIN:STANDARD
TZNAME:CST
DTSTART:20221106T020000
TZOFFSETFROM:-0500
TZOFFSETTO:-0600
RDATE:20231105T020000
RDATE:20241103T020000
END:STANDARD
BEGIN:DAYLIGHT
TZNAME:CDT
DTSTART:20230312T020000
TZOFFSETFROM:-0600
TZOFFSETTO:-0500
RDATE:20240310T020000
END:DAYLIGHT
END:VTIMEZONE
BEGIN:VEVENT
UID:30db70dd-a372-4b4e-8761-6b0b52c3a30d
DTSTAMP:20260424T073321Z
DESCRIPTION:
DTSTART;TZID=America/Chicago:20230725T170000
DTEND;TZID=America/Chicago:20230725T200000
LOCATION:
SUMMARY:Volunteer Training
END:VEVENT
END:VCALENDAR
