BEGIN:VCALENDAR
VERSION:2.0
PRODID:-//webinar.firespring.org//NONSGML kigkonsult.se iCalcreator 2.30.10
 //
CALSCALE:GREGORIAN
METHOD:PUBLISH
UID:2b5a2bbd-75b0-4e64-9cf8-0cbb2a256902
X-WR-CALDESC:
X-WR-RELCALID:ce21f5f2a03115c0086e7bc9e4109048
X-WR-TIMEZONE:America/Chicago
BEGIN:VTIMEZONE
TZID:America/Chicago
BEGIN:STANDARD
TZNAME:CST
DTSTART:20221106T020000
TZOFFSETFROM:-0500
TZOFFSETTO:-0600
RDATE:20231105T020000
END:STANDARD
BEGIN:DAYLIGHT
TZNAME:CDT
DTSTART:20220313T020000
TZOFFSETFROM:-0600
TZOFFSETTO:-0500
RDATE:20230312T020000
RDATE:20240310T020000
END:DAYLIGHT
END:VTIMEZONE
BEGIN:VEVENT
UID:6f999ed6-e72a-4ab2-b3aa-e9592c6c0dab
DTSTAMP:20260424T145033Z
DESCRIPTION:
DTSTART;TZID=America/Chicago:20230228T170000
DTEND;TZID=America/Chicago:20230228T200000
LOCATION:
SUMMARY:Volunteer Training
END:VEVENT
END:VCALENDAR
