BEGIN:VCALENDAR
VERSION:2.0
PRODID:-//webinar.firespring.org//NONSGML kigkonsult.se iCalcreator 2.30.10
 //
CALSCALE:GREGORIAN
METHOD:PUBLISH
UID:df34f46d-0b03-4371-a365-6dee32b744a0
X-WR-CALDESC:
X-WR-RELCALID:e2222e02c1a5d556133a938659e84135
X-WR-TIMEZONE:America/Chicago
BEGIN:VTIMEZONE
TZID:America/Chicago
BEGIN:STANDARD
TZNAME:CST
DTSTART:20221106T020000
TZOFFSETFROM:-0500
TZOFFSETTO:-0600
RDATE:20231105T020000
END:STANDARD
BEGIN:DAYLIGHT
TZNAME:CDT
DTSTART:20220313T020000
TZOFFSETFROM:-0600
TZOFFSETTO:-0500
RDATE:20230312T020000
RDATE:20240310T020000
END:DAYLIGHT
END:VTIMEZONE
BEGIN:VEVENT
UID:e4423c0b-0556-4dc3-a467-5b3b89305a0b
DTSTAMP:20260424T161201Z
DESCRIPTION:
DTSTART;TZID=America/Chicago:20230124T170000
DTEND;TZID=America/Chicago:20230124T200000
LOCATION:
SUMMARY:Volunteer Training
END:VEVENT
END:VCALENDAR
