BEGIN:VCALENDAR
VERSION:2.0
PRODID:-//webinar.firespring.org//NONSGML kigkonsult.se iCalcreator 2.30.10
 //
CALSCALE:GREGORIAN
METHOD:PUBLISH
UID:3c4ff9e1-96be-401c-9c2c-d4ece8a27aea
X-WR-CALDESC:
X-WR-RELCALID:1d89e85269b8ac2ef5f28cfaf0fefc58
X-WR-TIMEZONE:America/Chicago
BEGIN:VTIMEZONE
TZID:America/Chicago
BEGIN:STANDARD
TZNAME:CST
DTSTART:20221106T020000
TZOFFSETFROM:-0500
TZOFFSETTO:-0600
RDATE:20231105T020000
END:STANDARD
BEGIN:DAYLIGHT
TZNAME:CDT
DTSTART:20220313T020000
TZOFFSETFROM:-0600
TZOFFSETTO:-0500
RDATE:20230312T020000
RDATE:20240310T020000
END:DAYLIGHT
END:VTIMEZONE
BEGIN:VEVENT
UID:8258de89-8ccf-4126-ba1b-7a9f45c0a84e
DTSTAMP:20260424T163427Z
DESCRIPTION:
DTSTART;TZID=America/Chicago:20230112T140000
DTEND;TZID=America/Chicago:20230112T150000
LOCATION:
SUMMARY:Springboard 102: All About Events
END:VEVENT
END:VCALENDAR
