BEGIN:VCALENDAR
VERSION:2.0
PRODID:-//webinar.firespring.org//NONSGML kigkonsult.se iCalcreator 2.30.10
 //
CALSCALE:GREGORIAN
METHOD:PUBLISH
UID:b9c4d017-0d37-40b9-aa04-f7f8cd1943b2
X-WR-CALDESC:
X-WR-RELCALID:b3b3abb1edf213a6f08bc2eb307c6d94
X-WR-TIMEZONE:America/Chicago
BEGIN:VTIMEZONE
TZID:America/Chicago
BEGIN:STANDARD
TZNAME:CST
DTSTART:20221106T020000
TZOFFSETFROM:-0500
TZOFFSETTO:-0600
RDATE:20231105T020000
END:STANDARD
BEGIN:DAYLIGHT
TZNAME:CDT
DTSTART:20220313T020000
TZOFFSETFROM:-0600
TZOFFSETTO:-0500
RDATE:20230312T020000
RDATE:20240310T020000
END:DAYLIGHT
END:VTIMEZONE
BEGIN:VEVENT
UID:eb1ae46c-03cb-451b-87f7-ed1dae89e6ee
DTSTAMP:20260424T194306Z
DESCRIPTION:
DTSTART;TZID=America/Chicago:20221124T110000
DTEND;TZID=America/Chicago:20221124T120000
LOCATION:
SUMMARY:Board Member Meeting
END:VEVENT
END:VCALENDAR
