BEGIN:VCALENDAR
VERSION:2.0
PRODID:-//webinar.firespring.org//NONSGML kigkonsult.se iCalcreator 2.30.10
 //
CALSCALE:GREGORIAN
METHOD:PUBLISH
UID:63169e62-4e36-44d1-b68a-1655464d032b
X-WR-CALDESC:
X-WR-RELCALID:102f1e0dd2a707f111aebaebf4a03a51
X-WR-TIMEZONE:America/Chicago
BEGIN:VTIMEZONE
TZID:America/Chicago
BEGIN:STANDARD
TZNAME:CST
DTSTART:20211107T020000
TZOFFSETFROM:-0500
TZOFFSETTO:-0600
RDATE:20221106T020000
RDATE:20231105T020000
END:STANDARD
BEGIN:DAYLIGHT
TZNAME:CDT
DTSTART:20220313T020000
TZOFFSETFROM:-0600
TZOFFSETTO:-0500
RDATE:20230312T020000
RDATE:20240310T020000
END:DAYLIGHT
END:VTIMEZONE
BEGIN:VEVENT
UID:49528285-4c3f-4890-9e4e-b575537d7a0f
DTSTAMP:20260424T225614Z
DESCRIPTION:
DTSTART;TZID=America/Chicago:20220927T170000
DTEND;TZID=America/Chicago:20220927T200000
LOCATION:
SUMMARY:Volunteer Training
END:VEVENT
END:VCALENDAR
