BEGIN:VCALENDAR
VERSION:2.0
PRODID:-//webinar.firespring.org//NONSGML kigkonsult.se iCalcreator 2.30.10
 //
CALSCALE:GREGORIAN
METHOD:PUBLISH
UID:b49dd5a3-16db-4698-b2ed-ce8410d72bad
X-WR-CALDESC:You have the ability to update your website 24/7 and we’re her
 e to teach you how. Quickly learn how to customize and manage your nonprof
 it website by using the Springboard. From updating content\, images\, form
 s and collections to changing page and section names or news articles\, th
 is session will teach you how to operate your site.
X-WR-RELCALID:d097e0007b97e148db623bc92f8be8d5
X-WR-TIMEZONE:America/Chicago
BEGIN:VTIMEZONE
TZID:America/Chicago
BEGIN:STANDARD
TZNAME:CST
DTSTART:20211107T020000
TZOFFSETFROM:-0500
TZOFFSETTO:-0600
RDATE:20221106T020000
RDATE:20231105T020000
END:STANDARD
BEGIN:DAYLIGHT
TZNAME:CDT
DTSTART:20220313T020000
TZOFFSETFROM:-0600
TZOFFSETTO:-0500
RDATE:20230312T020000
RDATE:20240310T020000
END:DAYLIGHT
END:VTIMEZONE
BEGIN:VEVENT
UID:497ccbcc-5c49-4847-84ef-24ea38cf30af
DTSTAMP:20260424T231228Z
DESCRIPTION:You have the ability to update your website 24/7 and we’re here
  to teach you how. Quickly learn how to customize and manage your nonprofi
 t website by using the Springboard. From updating content\, images\, forms
  and collections to changing page and section names or news articles\, thi
 s session will teach you how to operate your site.
DTSTART;TZID=America/Chicago:20220914T140000
DTEND;TZID=America/Chicago:20220914T150000
LOCATION:
SUMMARY:Springboard 101
END:VEVENT
END:VCALENDAR
