BEGIN:VCALENDAR
VERSION:2.0
PRODID:-//webinar.firespring.org//NONSGML kigkonsult.se iCalcreator 2.30.10
 //
CALSCALE:GREGORIAN
METHOD:PUBLISH
UID:23b9f6c4-4d2a-44c1-b369-9c72cbf58998
X-WR-CALDESC:
X-WR-RELCALID:b8a7d76815e1668c753ae96d02e992cf
X-WR-TIMEZONE:America/Chicago
BEGIN:VTIMEZONE
TZID:America/Chicago
BEGIN:STANDARD
TZNAME:CST
DTSTART:20211107T020000
TZOFFSETFROM:-0500
TZOFFSETTO:-0600
RDATE:20221106T020000
RDATE:20231105T020000
END:STANDARD
BEGIN:DAYLIGHT
TZNAME:CDT
DTSTART:20220313T020000
TZOFFSETFROM:-0600
TZOFFSETTO:-0500
RDATE:20230312T020000
END:DAYLIGHT
END:VTIMEZONE
BEGIN:VEVENT
UID:f8976bf5-cff9-42fc-88f1-799b1ce7b3a8
DTSTAMP:20260425T001447Z
DESCRIPTION:
DTSTART;TZID=America/Chicago:20220823T170000
DTEND;TZID=America/Chicago:20220823T200000
LOCATION:
SUMMARY:Volunteer Training
END:VEVENT
END:VCALENDAR
