BEGIN:VCALENDAR
VERSION:2.0
PRODID:-//webinar.firespring.org//NONSGML kigkonsult.se iCalcreator 2.30.10
 //
CALSCALE:GREGORIAN
METHOD:PUBLISH
UID:5a5db321-8caa-4a15-b802-8d2eac216e66
X-WR-CALDESC:Join us for our monthly staff meeting.
X-WR-RELCALID:8a7bb6624a27bf49ee1e2ce549bfd6b3
X-WR-TIMEZONE:America/Chicago
BEGIN:VTIMEZONE
TZID:America/Chicago
BEGIN:STANDARD
TZNAME:CST
DTSTART:20211107T020000
TZOFFSETFROM:-0500
TZOFFSETTO:-0600
RDATE:20221106T020000
RDATE:20231105T020000
END:STANDARD
BEGIN:DAYLIGHT
TZNAME:CDT
DTSTART:20220313T020000
TZOFFSETFROM:-0600
TZOFFSETTO:-0500
RDATE:20230312T020000
END:DAYLIGHT
END:VTIMEZONE
BEGIN:VEVENT
UID:09539f8e-36ff-47e7-a01b-31146e7f21fb
DTSTAMP:20260425T031201Z
DESCRIPTION:Join us for our monthly staff meeting.
DTSTART;TZID=America/Chicago:20220602T140000
DTEND;TZID=America/Chicago:20220602T153000
LOCATION:1201 Infinity Court Lincoln NE
SUMMARY:Staff Meeting
END:VEVENT
END:VCALENDAR
